BEGIN:VCALENDAR
VERSION:2.0
PRODID:-//Ginninderry Community Switch - ECPv6.1.2.2//NONSGML v1.0//EN
CALSCALE:GREGORIAN
METHOD:PUBLISH
X-WR-CALNAME:Ginninderry Community Switch
X-ORIGINAL-URL:https://communityswitch.com.au
X-WR-CALDESC:Events for Ginninderry Community Switch
REFRESH-INTERVAL;VALUE=DURATION:PT1H
X-Robots-Tag:noindex
X-PUBLISHED-TTL:PT1H
BEGIN:VTIMEZONE
TZID:Australia/Sydney
BEGIN:STANDARD
TZOFFSETFROM:+1100
TZOFFSETTO:+1000
TZNAME:AEST
DTSTART:20260404T160000
END:STANDARD
BEGIN:DAYLIGHT
TZOFFSETFROM:+1000
TZOFFSETTO:+1100
TZNAME:AEDT
DTSTART:20261003T160000
END:DAYLIGHT
END:VTIMEZONE
BEGIN:VEVENT
DTSTART;TZID=Australia/Sydney:20260420T153000
DTEND;TZID=Australia/Sydney:20260420T180000
DTSTAMP:20260421T204009
CREATED:20260415T231223Z
LAST-MODIFIED:20260415T231223Z
UID:16089-1776699000-1776708000@communityswitch.com.au
SUMMARY:Zone 3 Laser Games - Monday Madness
DESCRIPTION:Monday Madness is an event for students held every Monday during the school term (except for public holidays). The cost is $15 pp\, and you will get unlimited laser tag and arcade games during the session. Ages 6yo to 18yo are welcome\, but under 12yo need adult supervision. Online bookings and walk-ins both welcome.
URL:https://communityswitch.com.au/event/zone-3-laser-games-monday-madness/
LOCATION:Belconnen\, Weedon Close\, 28\, Belconnen\, ACT\, 2617
CATEGORIES:Family friendly events
ORGANIZER;CN="Zone%203%20Laser%20Game":MAILTO:zone3@zone3act.com.au
END:VEVENT
END:VCALENDAR