BEGIN:VCALENDAR
VERSION:2.0
PRODID:-//Ginninderry Community Switch - ECPv6.1.2.2//NONSGML v1.0//EN
CALSCALE:GREGORIAN
METHOD:PUBLISH
X-WR-CALNAME:Ginninderry Community Switch
X-ORIGINAL-URL:https://communityswitch.com.au
X-WR-CALDESC:Events for Ginninderry Community Switch
REFRESH-INTERVAL;VALUE=DURATION:PT1H
X-Robots-Tag:noindex
X-PUBLISHED-TTL:PT1H
BEGIN:VTIMEZONE
TZID:Australia/Sydney
BEGIN:STANDARD
TZOFFSETFROM:+1100
TZOFFSETTO:+1000
TZNAME:AEST
DTSTART:20260404T160000
END:STANDARD
BEGIN:DAYLIGHT
TZOFFSETFROM:+1000
TZOFFSETTO:+1100
TZNAME:AEDT
DTSTART:20261003T160000
END:DAYLIGHT
END:VTIMEZONE
BEGIN:VEVENT
DTSTART;TZID=Australia/Sydney:20260710T090000
DTEND;TZID=Australia/Sydney:20260712T200000
DTSTAMP:20260422T085352
CREATED:20260331T054701Z
LAST-MODIFIED:20260331T054701Z
UID:15880-1783674000-1783886400@communityswitch.com.au
SUMMARY:Warriors Basketball Club NAIDOC Tournament 2026
DESCRIPTION:The Warriors NAIDOC Basketball Tournament is a 3-day event held across north and south side courts in the ACT. Entry fee is $500 per team with teams playing a minimum of 4 games. Players do not need to be registered with a basketball club\, so get a group of friends together and enjoy the weekend.
URL:https://communityswitch.com.au/event/warriors-basketball-club-naidoc-tournament-2026/
LOCATION:Unnamed Venue\, ACT
CATEGORIES:Events
ORGANIZER;CN="Danielle%20Devow":MAILTO:warriorsbasketballact@gmail.com
END:VEVENT
END:VCALENDAR