BEGIN:VCALENDAR
VERSION:2.0
PRODID:-//Ginninderry Community Switch - ECPv6.1.2.2//NONSGML v1.0//EN
CALSCALE:GREGORIAN
METHOD:PUBLISH
X-WR-CALNAME:Ginninderry Community Switch
X-ORIGINAL-URL:https://communityswitch.com.au
X-WR-CALDESC:Events for Ginninderry Community Switch
REFRESH-INTERVAL;VALUE=DURATION:PT1H
X-Robots-Tag:noindex
X-PUBLISHED-TTL:PT1H
BEGIN:VTIMEZONE
TZID:Australia/Sydney
BEGIN:STANDARD
TZOFFSETFROM:+1100
TZOFFSETTO:+1000
TZNAME:AEST
DTSTART:20260404T160000
END:STANDARD
BEGIN:DAYLIGHT
TZOFFSETFROM:+1000
TZOFFSETTO:+1100
TZNAME:AEDT
DTSTART:20261003T160000
END:DAYLIGHT
END:VTIMEZONE
BEGIN:VEVENT
DTSTART;TZID=Australia/Sydney:20260419T100000
DTEND;TZID=Australia/Sydney:20260419T130000
DTSTAMP:20260420T135145
CREATED:20260415T044842Z
LAST-MODIFIED:20260415T044842Z
UID:16046-1776592800-1776603600@communityswitch.com.au
SUMMARY:Walk to Defeat MND Canberra
DESCRIPTION:Join Walk to Defeat MND Canberra on Sunday April 19 and support your MND Community. \nThe 5km all ages and abilities charity walk raises awareness about motor neurone disease and funds for MND NSW to provide assistive equipment\, information and education and ongoing support to families facing MND throughout the ACT and NSW. \nWalk to Defeat MND Canberra begins at 10am at Upper Commonwealth Place. \nFind out more or register for the event now at walktodefeatmnd.org.au/canberra
URL:https://communityswitch.com.au/event/walk-to-defeat-mnd-canberra/
LOCATION:Parkes\, Mall Road West\, Parkes\, ACT\, 2600
CATEGORIES:Family friendly events
ORGANIZER;CN="Kym%20Nielsen%20-%20MND%20NSW":MAILTO:fundraising@mndnsw.org.au
END:VEVENT
END:VCALENDAR