BEGIN:VCALENDAR
VERSION:2.0
PRODID:-//Ginninderry Community Switch - ECPv6.1.2.2//NONSGML v1.0//EN
CALSCALE:GREGORIAN
METHOD:PUBLISH
X-WR-CALNAME:Ginninderry Community Switch
X-ORIGINAL-URL:https://communityswitch.com.au
X-WR-CALDESC:Events for Ginninderry Community Switch
REFRESH-INTERVAL;VALUE=DURATION:PT1H
X-Robots-Tag:noindex
X-PUBLISHED-TTL:PT1H
BEGIN:VTIMEZONE
TZID:Australia/Sydney
BEGIN:STANDARD
TZOFFSETFROM:+1100
TZOFFSETTO:+1000
TZNAME:AEST
DTSTART:20260404T160000
END:STANDARD
BEGIN:DAYLIGHT
TZOFFSETFROM:+1000
TZOFFSETTO:+1100
TZNAME:AEDT
DTSTART:20261003T160000
END:DAYLIGHT
END:VTIMEZONE
BEGIN:VEVENT
DTSTART;TZID=Australia/Sydney:20260520T100000
DTEND;TZID=Australia/Sydney:20260520T160000
DTSTAMP:20260422T083723
CREATED:20260407T072349Z
LAST-MODIFIED:20260407T072349Z
UID:15940-1779271200-1779292800@communityswitch.com.au
SUMMARY:Thrive Through Change
DESCRIPTION:Thrive Through Change is a transformative community event created to support and empower women navigating perimenopause\, menopause and beyond. \nFor decades\, women give so much of themselves — to their families\, their work\, and their communities. This event exists to give something back. It is a space for women to feel seen\, understood and supported through one of life’s most significant transitions\, with expert guidance\, practical tools and meaningful connection. \nThis half-day experience brings together a multidisciplinary panel of trusted experts to provide clarity around hormonal change — physically\, emotionally and mentally. Through a combination of educational sessions\, guided experiences and open conversations\, you’ll gain insight\, reassurance and strategies to help you move through this stage with confidence\, vitality and a renewed sense of self. \nMore than just an event\, this is a movement grounded in community and purpose. All profits will be donated to The Tarrant Foundation\, supporting women and children in hardship — creating impact far beyond the room. \nGuests will also enjoy curated experiences including a guided meditation\, networking opportunities\, a wellness showcase\, premium goodie bags and the chance to give back further through a silent charity auction and lucky door prizes. \nThis is not just information — it is understanding\, connection and empowerment.
URL:https://communityswitch.com.au/event/thrive-through-change/
LOCATION:Barton\, Menindee Drive\, Barton\, ACT\, 2600
CATEGORIES:Events
ORGANIZER;CN="Skin%20wellness%20academy":MAILTO:carissa@capitalevents.net
END:VEVENT
END:VCALENDAR