BEGIN:VCALENDAR
VERSION:2.0
PRODID:-//Ginninderry Community Switch - ECPv6.1.2.2//NONSGML v1.0//EN
CALSCALE:GREGORIAN
METHOD:PUBLISH
X-WR-CALNAME:Ginninderry Community Switch
X-ORIGINAL-URL:https://communityswitch.com.au
X-WR-CALDESC:Events for Ginninderry Community Switch
REFRESH-INTERVAL;VALUE=DURATION:PT1H
X-Robots-Tag:noindex
X-PUBLISHED-TTL:PT1H
BEGIN:VTIMEZONE
TZID:Australia/Sydney
BEGIN:STANDARD
TZOFFSETFROM:+1100
TZOFFSETTO:+1000
TZNAME:AEST
DTSTART:20260404T160000
END:STANDARD
BEGIN:DAYLIGHT
TZOFFSETFROM:+1000
TZOFFSETTO:+1100
TZNAME:AEDT
DTSTART:20261003T160000
END:DAYLIGHT
END:VTIMEZONE
BEGIN:VEVENT
DTSTART;TZID=Australia/Sydney:20260327T110000
DTEND;TZID=Australia/Sydney:20260426T170000
DTSTAMP:20260422T043828
CREATED:20260320T055214Z
LAST-MODIFIED:20260320T055214Z
UID:15750-1774609200-1777222800@communityswitch.com.au
SUMMARY:'The Weather and What Is' by Olivia Burgess
DESCRIPTION:‘The Weather and What Is’ makes central a lesbian experience within a world shaped by dualisms—mind/body\, nature/culture\, windy/still\, useful/redundant\, productive/wasted\, man/woman\, hetero/not. Printmaking\, photography and sculptural materials hold subject Burgess’ garden as kin\, alongside her body. \nFull\, generous\, focused\, and sensual\, ‘The Weather and What Is’ opens space for a re-imagining of intimacy\, ecology\, history\, and embodiment beyond dominant cultural frames. \nImage: Olive Burgess\, ‘The Weather and What Is.’ Image courtesy of the artist.
URL:https://communityswitch.com.au/event/the-weather-and-what-is-by-olivia-burgess/
LOCATION:Forrest\, Furneaux Street\, 19\, Forrest\, ACT\, 2603
CATEGORIES:Events
ORGANIZER;CN="Platform":MAILTO:info@canberracontemporary.com.au
END:VEVENT
END:VCALENDAR