BEGIN:VCALENDAR
VERSION:2.0
PRODID:-//Ginninderry Community Switch - ECPv6.1.2.2//NONSGML v1.0//EN
CALSCALE:GREGORIAN
METHOD:PUBLISH
X-WR-CALNAME:Ginninderry Community Switch
X-ORIGINAL-URL:https://communityswitch.com.au
X-WR-CALDESC:Events for Ginninderry Community Switch
REFRESH-INTERVAL;VALUE=DURATION:PT1H
X-Robots-Tag:noindex
X-PUBLISHED-TTL:PT1H
BEGIN:VTIMEZONE
TZID:Australia/Sydney
BEGIN:STANDARD
TZOFFSETFROM:+1100
TZOFFSETTO:+1000
TZNAME:AEST
DTSTART:20260404T160000
END:STANDARD
BEGIN:DAYLIGHT
TZOFFSETFROM:+1000
TZOFFSETTO:+1100
TZNAME:AEDT
DTSTART:20261003T160000
END:DAYLIGHT
END:VTIMEZONE
BEGIN:VEVENT
DTSTART;TZID=Australia/Sydney:20261101T090000
DTEND;TZID=Australia/Sydney:20261101T130000
DTSTAMP:20260422T084342
CREATED:20260102T033514Z
LAST-MODIFIED:20260102T033514Z
UID:14490-1793523600-1793538000@communityswitch.com.au
SUMMARY:The Canberra Collectables Fair (Coins\, Stamps\, Postcards)
DESCRIPTION:The Canberra Collectables Fair is run on the first Sunday of the month (Feb to Nov) in conjunction with the Act & District Coin Club. The fair is predominately Coins\, Stamps\, and Postcards.\nEntry Free\nLocated at Garran Adventure Scout Hall – 123 Kitchener St\, Garran.\nBe aware there are 2 scout halls in Garran.\nFor information Wayne 0414 374 511
URL:https://communityswitch.com.au/event/the-canberra-collectables-fair-coins-stamps-postcards-17/
LOCATION:Garran\, Kitchener Street\, 123\, Garran\, ACT\, 2605
CATEGORIES:Things to do
ORGANIZER;CN="Wayne%20Corbin":MAILTO:waynecorbin@live.com
END:VEVENT
END:VCALENDAR