BEGIN:VCALENDAR
VERSION:2.0
PRODID:-//Ginninderry Community Switch - ECPv6.1.2.2//NONSGML v1.0//EN
CALSCALE:GREGORIAN
METHOD:PUBLISH
X-WR-CALNAME:Ginninderry Community Switch
X-ORIGINAL-URL:https://communityswitch.com.au
X-WR-CALDESC:Events for Ginninderry Community Switch
REFRESH-INTERVAL;VALUE=DURATION:PT1H
X-Robots-Tag:noindex
X-PUBLISHED-TTL:PT1H
BEGIN:VTIMEZONE
TZID:Australia/Sydney
BEGIN:STANDARD
TZOFFSETFROM:+1100
TZOFFSETTO:+1000
TZNAME:AEST
DTSTART:20260404T160000
END:STANDARD
BEGIN:DAYLIGHT
TZOFFSETFROM:+1000
TZOFFSETTO:+1100
TZNAME:AEDT
DTSTART:20261003T160000
END:DAYLIGHT
END:VTIMEZONE
BEGIN:VEVENT
DTSTART;TZID=Australia/Sydney:20260516T100000
DTEND;TZID=Australia/Sydney:20260516T160000
DTSTAMP:20260425T040210
CREATED:20260306T060642Z
LAST-MODIFIED:20260306T060642Z
UID:15547-1778925600-1778947200@communityswitch.com.au
SUMMARY:Street Photography Workshop
DESCRIPTION:Unlock your vision in street photography through this hands-on workshop led by documentary photographer George Calvelo. Designed for photographers looking to build confidence and sharpen their eye for compelling images in public spaces\, this workshop offers practical guidance on developing your photographic style\, mastering camera techniques and editing your work with purpose. \nThe one-day workshop includes a mix of lecture\, discussion\, and on-location shooting: \nMorning Lecture: Learn to see creatively\, build confidence with your gear\, and explore ethics in public photography.\nAfternoon Shooting: Apply what you’ve learned with an instructor-led shoot around the Kingston and Manuka shops.
URL:https://communityswitch.com.au/event/street-photography-workshop-2/
LOCATION:Griffith\, Manuka Circle\, 30\, Griffith\, ACT\, 2603
CATEGORIES:Things to do
ORGANIZER;CN="Unnamed%20Organiser":MAILTO:hello@photoaccess.org.au
END:VEVENT
END:VCALENDAR