BEGIN:VCALENDAR
VERSION:2.0
PRODID:-//Ginninderry Community Switch - ECPv6.1.2.2//NONSGML v1.0//EN
CALSCALE:GREGORIAN
METHOD:PUBLISH
X-WR-CALNAME:Ginninderry Community Switch
X-ORIGINAL-URL:https://communityswitch.com.au
X-WR-CALDESC:Events for Ginninderry Community Switch
REFRESH-INTERVAL;VALUE=DURATION:PT1H
X-Robots-Tag:noindex
X-PUBLISHED-TTL:PT1H
BEGIN:VTIMEZONE
TZID:Australia/Sydney
BEGIN:STANDARD
TZOFFSETFROM:+1100
TZOFFSETTO:+1000
TZNAME:AEST
DTSTART:20260404T160000
END:STANDARD
BEGIN:DAYLIGHT
TZOFFSETFROM:+1000
TZOFFSETTO:+1100
TZNAME:AEDT
DTSTART:20261003T160000
END:DAYLIGHT
END:VTIMEZONE
BEGIN:VEVENT
DTSTART;TZID=Australia/Sydney:20260426T150000
DTEND;TZID=Australia/Sydney:20260426T161500
DTSTAMP:20260420T221459
CREATED:20260407T072314Z
LAST-MODIFIED:20260407T072314Z
UID:15938-1777215600-1777220100@communityswitch.com.au
SUMMARY:Polifemy women's vocal ensemble: One Woman's War
DESCRIPTION:Polifemy (dir. Robyn Mellor) will sing the Missa L’homme armé (Mass for the Armed Man) (Guerrero\, 1540) . You will also hear readings from letters by Sister Ada Priscilla Smith after she enlisted in the Australian Army Medical Corps in June 1915. Reflect on Sister Smith’s journey from Warwick in Queensland\, to Egypt\, France\, England and back again in early 1920. Join us for a concert of beautiful Renaissance music and a riveting recounting of one woman’s war.
URL:https://communityswitch.com.au/event/polifemy-womens-vocal-ensemble-one-womans-war/
LOCATION:Forrest\, National Circuit\, 20\, Forrest\, ACT\, 2603
CATEGORIES:Events
ORGANIZER;CN="Robyn%20Mellor":MAILTO:robynick42@gmail.com
END:VEVENT
END:VCALENDAR