BEGIN:VCALENDAR
VERSION:2.0
PRODID:-//Ginninderry Community Switch - ECPv6.1.2.2//NONSGML v1.0//EN
CALSCALE:GREGORIAN
METHOD:PUBLISH
X-WR-CALNAME:Ginninderry Community Switch
X-ORIGINAL-URL:https://communityswitch.com.au
X-WR-CALDESC:Events for Ginninderry Community Switch
REFRESH-INTERVAL;VALUE=DURATION:PT1H
X-Robots-Tag:noindex
X-PUBLISHED-TTL:PT1H
BEGIN:VTIMEZONE
TZID:Australia/Sydney
BEGIN:STANDARD
TZOFFSETFROM:+1100
TZOFFSETTO:+1000
TZNAME:AEST
DTSTART:20250405T160000
END:STANDARD
BEGIN:DAYLIGHT
TZOFFSETFROM:+1000
TZOFFSETTO:+1100
TZNAME:AEDT
DTSTART:20251004T160000
END:DAYLIGHT
END:VTIMEZONE
BEGIN:VEVENT
DTSTART;TZID=Australia/Sydney:20250708T173000
DTEND;TZID=Australia/Sydney:20250708T193000
DTSTAMP:20260421T052218
CREATED:20250618T235557Z
LAST-MODIFIED:20250618T235557Z
UID:10909-1751995800-1752003000@communityswitch.com.au
SUMMARY:NAIDOC Week Yuma Yarn Weaving Workshop at Woden Library
DESCRIPTION:Wiradjiri artist Rechelle Turner will introduce you to the joyful meditative practice of slow-stitched coiled weaving. As you weave\, Murawari musician Belle Whyte will perform and share her cultural stories along with Rechelle
URL:https://communityswitch.com.au/event/naidoc-week-yuma-yarn-weaving-workshop-at-woden-library/
LOCATION:Phillip\, Phillip\, ACT\, 2606
CATEGORIES:Events
ORGANIZER;CN="Tuggeranong%20Arts%20Centre":MAILTO:info@tuggeranongarts.com
END:VEVENT
END:VCALENDAR