BEGIN:VCALENDAR
VERSION:2.0
PRODID:-//Ginninderry Community Switch - ECPv6.1.2.2//NONSGML v1.0//EN
CALSCALE:GREGORIAN
METHOD:PUBLISH
X-WR-CALNAME:Ginninderry Community Switch
X-ORIGINAL-URL:https://communityswitch.com.au
X-WR-CALDESC:Events for Ginninderry Community Switch
REFRESH-INTERVAL;VALUE=DURATION:PT1H
X-Robots-Tag:noindex
X-PUBLISHED-TTL:PT1H
BEGIN:VTIMEZONE
TZID:Australia/Sydney
BEGIN:STANDARD
TZOFFSETFROM:+1100
TZOFFSETTO:+1000
TZNAME:AEST
DTSTART:20260404T160000
END:STANDARD
BEGIN:DAYLIGHT
TZOFFSETFROM:+1000
TZOFFSETTO:+1100
TZNAME:AEDT
DTSTART:20261003T160000
END:DAYLIGHT
END:VTIMEZONE
BEGIN:VEVENT
DTSTART;TZID=Australia/Sydney:20260227T190000
DTEND;TZID=Australia/Sydney:20260307T200000
DTSTAMP:20260419T234938
CREATED:20260220T050242Z
LAST-MODIFIED:20260220T050242Z
UID:15236-1772218800-1772913600@communityswitch.com.au
SUMMARY:Music at Dusk on the Forecourt
DESCRIPTION:Begin your Enlighten adventure at Australian Parliament House\, where the melodies of Canberra’s choirs will fill the air. Bring a picnic and a blanket and immerse yourself in the music of local Canberra choirs as the sun sets. Hear the choirs on Saturday 28 February and Saturday 7 March 2026.
URL:https://communityswitch.com.au/event/music-at-dusk-on-the-forecourt/
LOCATION:Capital Hill\, Parliament Drive\, Capital Hill\, ACT\, 2600
CATEGORIES:Events
ORGANIZER;CN="Australian%20Parliament%20House":MAILTO:visitorservices@aph.gov.au
END:VEVENT
END:VCALENDAR