BEGIN:VCALENDAR
VERSION:2.0
PRODID:-//Ginninderry Community Switch - ECPv6.1.2.2//NONSGML v1.0//EN
CALSCALE:GREGORIAN
METHOD:PUBLISH
X-WR-CALNAME:Ginninderry Community Switch
X-ORIGINAL-URL:https://communityswitch.com.au
X-WR-CALDESC:Events for Ginninderry Community Switch
REFRESH-INTERVAL;VALUE=DURATION:PT1H
X-Robots-Tag:noindex
X-PUBLISHED-TTL:PT1H
BEGIN:VTIMEZONE
TZID:Australia/Sydney
BEGIN:STANDARD
TZOFFSETFROM:+1100
TZOFFSETTO:+1000
TZNAME:AEST
DTSTART:20240406T160000
END:STANDARD
BEGIN:DAYLIGHT
TZOFFSETFROM:+1000
TZOFFSETTO:+1100
TZNAME:AEDT
DTSTART:20241005T160000
END:DAYLIGHT
END:VTIMEZONE
BEGIN:VEVENT
DTSTART;TZID=Australia/Sydney:20241005T190000
DTEND;TZID=Australia/Sydney:20241005T220000
DTSTAMP:20260420T190933
CREATED:20241001T032848Z
LAST-MODIFIED:20241001T032848Z
UID:6533-1728154800-1728165600@communityswitch.com.au
SUMMARY:Metropolis (2010 Restoration) | Canberra Art Biennial at NFSA Acton
DESCRIPTION:The 2010 restoration of Fritz Lang’s silent sci-fi masterpiece brings together rare footage and the original orchestral score. This special screening complements the exhibition of Bronte Cormican-Jones’ new work Of line\, of light on the NFSA lawns and includes an introduction.
URL:https://communityswitch.com.au/event/metropolis-2010-restoration-canberra-art-biennial-at-nfsa-acton/
CATEGORIES:Events
ORGANIZER;CN="National%20Film%20and%20Sound%20Archive%20of%20Australia%20%28NFSA%29":MAILTO:tickets@nfsa.gov.au
END:VEVENT
END:VCALENDAR