BEGIN:VCALENDAR
VERSION:2.0
PRODID:-//Ginninderry Community Switch - ECPv6.1.2.2//NONSGML v1.0//EN
CALSCALE:GREGORIAN
METHOD:PUBLISH
X-WR-CALNAME:Ginninderry Community Switch
X-ORIGINAL-URL:https://communityswitch.com.au
X-WR-CALDESC:Events for Ginninderry Community Switch
REFRESH-INTERVAL;VALUE=DURATION:PT1H
X-Robots-Tag:noindex
X-PUBLISHED-TTL:PT1H
BEGIN:VTIMEZONE
TZID:Australia/Sydney
BEGIN:STANDARD
TZOFFSETFROM:+1100
TZOFFSETTO:+1000
TZNAME:AEST
DTSTART:20260404T160000
END:STANDARD
BEGIN:DAYLIGHT
TZOFFSETFROM:+1000
TZOFFSETTO:+1100
TZNAME:AEDT
DTSTART:20261003T160000
END:DAYLIGHT
END:VTIMEZONE
BEGIN:VEVENT
DTSTART;TZID=Australia/Sydney:20260430T200000
DTEND;TZID=Australia/Sydney:20260503T170000
DTSTAMP:20260422T064329
CREATED:20260421T015608Z
LAST-MODIFIED:20260421T015608Z
UID:16160-1777579200-1777827600@communityswitch.com.au
SUMMARY:Luminescence and the Machine
DESCRIPTION:Luminescence Chamber Singers present a truly groundbreaking project; 12 world premieres specifically commissioned to utilise electronic architecture that enables each singer to digitally manipulate their own voice in real-time. Developed alongside 3 GRAMMY award winning collaborators\, and featuring new music by 8 Australian composers.
URL:https://communityswitch.com.au/event/luminescence-and-the-machine/
LOCATION:Canberra\, Childers Street\, 15\, Canberra\, ACT\, 2601
CATEGORIES:Events
ORGANIZER;CN="Luminescence%20Chamber%20Singers":MAILTO:alasdair.stretch@luminescence.org.au
END:VEVENT
END:VCALENDAR