BEGIN:VCALENDAR
VERSION:2.0
PRODID:-//Ginninderry Community Switch - ECPv6.1.2.2//NONSGML v1.0//EN
CALSCALE:GREGORIAN
METHOD:PUBLISH
X-WR-CALNAME:Ginninderry Community Switch
X-ORIGINAL-URL:https://communityswitch.com.au
X-WR-CALDESC:Events for Ginninderry Community Switch
REFRESH-INTERVAL;VALUE=DURATION:PT1H
X-Robots-Tag:noindex
X-PUBLISHED-TTL:PT1H
BEGIN:VTIMEZONE
TZID:Australia/Sydney
BEGIN:STANDARD
TZOFFSETFROM:+1100
TZOFFSETTO:+1000
TZNAME:AEST
DTSTART:20260404T160000
END:STANDARD
BEGIN:DAYLIGHT
TZOFFSETFROM:+1000
TZOFFSETTO:+1100
TZNAME:AEDT
DTSTART:20261003T160000
END:DAYLIGHT
END:VTIMEZONE
BEGIN:VEVENT
DTSTART;TZID=Australia/Sydney:20260424T173000
DTEND;TZID=Australia/Sydney:20260424T193000
DTSTAMP:20260420T221347
CREATED:20260417T065425Z
LAST-MODIFIED:20260417T065425Z
UID:16118-1777051800-1777059000@communityswitch.com.au
SUMMARY:Lakeside at 5: Rachael Thoms Trio
DESCRIPTION:Lakeside at 5 is a popular after work program of local live jazz. Come and relax by Lake Tuggeranong with a glass of wine and live music by some of Canberra’s most treasured jazz artists. In April\, versatile vocalist Rachael Thoms joins forces with two of Canberra’s most sought-after musicians\, guitarist Lachlan Coventry\, and bassist Chris Pound.
URL:https://communityswitch.com.au/event/lakeside-at-5-rachael-thoms-trio-2/
LOCATION:Greenway\, Reed Street North\, 137\, Greenway\, ACT\, 2901
CATEGORIES:Events
ORGANIZER;CN="Tuggeranong%20Arts%20Centre":MAILTO:info@tuggeranongarts.com
END:VEVENT
END:VCALENDAR