BEGIN:VCALENDAR
VERSION:2.0
PRODID:-//Ginninderry Community Switch - ECPv6.1.2.2//NONSGML v1.0//EN
CALSCALE:GREGORIAN
METHOD:PUBLISH
X-WR-CALNAME:Ginninderry Community Switch
X-ORIGINAL-URL:https://communityswitch.com.au
X-WR-CALDESC:Events for Ginninderry Community Switch
REFRESH-INTERVAL;VALUE=DURATION:PT1H
X-Robots-Tag:noindex
X-PUBLISHED-TTL:PT1H
BEGIN:VTIMEZONE
TZID:Australia/Sydney
BEGIN:STANDARD
TZOFFSETFROM:+1100
TZOFFSETTO:+1000
TZNAME:AEST
DTSTART:20260404T160000
END:STANDARD
BEGIN:DAYLIGHT
TZOFFSETFROM:+1000
TZOFFSETTO:+1100
TZNAME:AEDT
DTSTART:20261003T160000
END:DAYLIGHT
END:VTIMEZONE
BEGIN:VEVENT
DTSTART;TZID=Australia/Sydney:20260419T100000
DTEND;TZID=Australia/Sydney:20260419T140000
DTSTAMP:20260420T135911
CREATED:20260415T045015Z
LAST-MODIFIED:20260415T045015Z
UID:16056-1776592800-1776607200@communityswitch.com.au
SUMMARY:Heritage Market Day - Blundells Cottage
DESCRIPTION:Step Back in time at Blundells Cottage Market Day \nExperience living history at Blundells Cottage Heritage Market Day on 19 April\, a vibrant celebration of more than a century of life at the cottage. Step back in time and explore how the home and its families changed over the years through hands-on experiences and performances. Enjoy drop-in workshops\, live music\, heritage craft demonstrations\, military reenacting\, and historical dance\, and take home a small piece of history. Browse local market stalls showcasing traditional skills and locally made goods in a lively heritage setting. Experience over 100 years of history at Blundells cottage. \nNational Military Reenactment Group and Historic Dance Delights providing displays throughout the day.
URL:https://communityswitch.com.au/event/heritage-market-day-blundells-cottage/
LOCATION:Parkes\, Wendouree Drive\, Parkes\, ACT\, 2600
CATEGORIES:Events
ORGANIZER;CN="National%20Capital%20Exhibition":MAILTO:nce@nca.gov.au
END:VEVENT
END:VCALENDAR