BEGIN:VCALENDAR
VERSION:2.0
PRODID:-//Ginninderry Community Switch - ECPv6.1.2.2//NONSGML v1.0//EN
CALSCALE:GREGORIAN
METHOD:PUBLISH
X-WR-CALNAME:Ginninderry Community Switch
X-ORIGINAL-URL:https://communityswitch.com.au
X-WR-CALDESC:Events for Ginninderry Community Switch
REFRESH-INTERVAL;VALUE=DURATION:PT1H
X-Robots-Tag:noindex
X-PUBLISHED-TTL:PT1H
BEGIN:VTIMEZONE
TZID:Australia/Sydney
BEGIN:STANDARD
TZOFFSETFROM:+1100
TZOFFSETTO:+1000
TZNAME:AEST
DTSTART:20260404T160000
END:STANDARD
BEGIN:DAYLIGHT
TZOFFSETFROM:+1000
TZOFFSETTO:+1100
TZNAME:AEDT
DTSTART:20261003T160000
END:DAYLIGHT
END:VTIMEZONE
BEGIN:VEVENT
DTSTART;TZID=Australia/Sydney:20260627T190000
DTEND;TZID=Australia/Sydney:20260627T223000
DTSTAMP:20260422T084055
CREATED:20260415T045037Z
LAST-MODIFIED:20260415T045037Z
UID:16065-1782586800-1782599400@communityswitch.com.au
SUMMARY:Hendrix & Heroes - Steve Edmonds Band @ The Zeppelin Room
DESCRIPTION:The Steve Edmonds Band Jimi Hendrix Tribute Show is a heartfelt tribute to the great music and imagery of Jimi Hendrix and a tribute to the greatest guitar songs and bands of the 70’s.
URL:https://communityswitch.com.au/event/hendrix-heroes-steve-edmonds-band-the-zeppelin-room/
LOCATION:Narrabundah\, Jerrabomberra Avenue\, 49\, Narrabundah\, ACT\, 2604
CATEGORIES:Events
ORGANIZER;CN="Canberra%20Blues%20Society":MAILTO:contact@canberrabluessociety.com.au
END:VEVENT
END:VCALENDAR