BEGIN:VCALENDAR
VERSION:2.0
PRODID:-//Ginninderry Community Switch - ECPv6.1.2.2//NONSGML v1.0//EN
CALSCALE:GREGORIAN
METHOD:PUBLISH
X-WR-CALNAME:Ginninderry Community Switch
X-ORIGINAL-URL:https://communityswitch.com.au
X-WR-CALDESC:Events for Ginninderry Community Switch
REFRESH-INTERVAL;VALUE=DURATION:PT1H
X-Robots-Tag:noindex
X-PUBLISHED-TTL:PT1H
BEGIN:VTIMEZONE
TZID:Australia/Sydney
BEGIN:STANDARD
TZOFFSETFROM:+1100
TZOFFSETTO:+1000
TZNAME:AEST
DTSTART:20260404T160000
END:STANDARD
BEGIN:DAYLIGHT
TZOFFSETFROM:+1000
TZOFFSETTO:+1100
TZNAME:AEDT
DTSTART:20261003T160000
END:DAYLIGHT
END:VTIMEZONE
BEGIN:VEVENT
DTSTART;TZID=Australia/Sydney:20260418T080000
DTEND;TZID=Australia/Sydney:20260418T130000
DTSTAMP:20260420T191119
CREATED:20260415T044920Z
LAST-MODIFIED:20260415T044920Z
UID:16052-1776499200-1776517200@communityswitch.com.au
SUMMARY:Garage Sale  at Holy Cross Lutheran Church Belconnen
DESCRIPTION:Holy Cross Belconnen is holding a garage sale onsite\, and everyone is welcome! Come and find a bargain among the books\, homewares\, toys\, games and puzzles\, clothes and outdoor items that we have on offer.
URL:https://communityswitch.com.au/event/garage-sale-at-holy-cross-lutheran-church-belconnen/
LOCATION:Belconnen\, Belconnen\, ACT\, 2617
CATEGORIES:Events
ORGANIZER;CN="Sara%20Reid":MAILTO:sara@gumnutgear.com.au
END:VEVENT
END:VCALENDAR