BEGIN:VCALENDAR
VERSION:2.0
PRODID:-//Ginninderry Community Switch - ECPv6.1.2.2//NONSGML v1.0//EN
CALSCALE:GREGORIAN
METHOD:PUBLISH
X-WR-CALNAME:Ginninderry Community Switch
X-ORIGINAL-URL:https://communityswitch.com.au
X-WR-CALDESC:Events for Ginninderry Community Switch
REFRESH-INTERVAL;VALUE=DURATION:PT1H
X-Robots-Tag:noindex
X-PUBLISHED-TTL:PT1H
BEGIN:VTIMEZONE
TZID:Australia/Sydney
BEGIN:STANDARD
TZOFFSETFROM:+1100
TZOFFSETTO:+1000
TZNAME:AEST
DTSTART:20260404T160000
END:STANDARD
BEGIN:DAYLIGHT
TZOFFSETFROM:+1000
TZOFFSETTO:+1100
TZNAME:AEDT
DTSTART:20261003T160000
END:DAYLIGHT
END:VTIMEZONE
BEGIN:VEVENT
DTSTART;TZID=Australia/Sydney:20260506T180000
DTEND;TZID=Australia/Sydney:20260506T210000
DTSTAMP:20260425T023300
CREATED:20260112T054944Z
LAST-MODIFIED:20260112T054944Z
UID:14781-1778090400-1778101200@communityswitch.com.au
SUMMARY:Film Developing and Scanning Workshop
DESCRIPTION:In this workshop you will be guided through the process of developing your own 35mm or 120 black and white film in the photo access film developing room. Your tutor will also give you a detailed demonstration of how to scan your negatives using the PhotoAccess Digital Suite. \nOnce you have completed the class and become a photo access member\, you can access the digital scanning suite and film developing room free of charge. Bookings are essential. \nYou’ll also receive a complimentary roll of film so you are ready to go after the workshop. \nPhoto Access runs these workshops every quarter so if you miss out on this one\, there’s always another one around the corner!
URL:https://communityswitch.com.au/event/film-developing-and-scanning-workshop-5/
LOCATION:Griffith\, Manuka Circle\, 30\, Griffith\, ACT\, 2603
CATEGORIES:Things to do
ORGANIZER;CN="photo%20access":MAILTO:maddie@photoaccess.org.au
END:VEVENT
END:VCALENDAR