BEGIN:VCALENDAR
VERSION:2.0
PRODID:-//Ginninderry Community Switch - ECPv6.1.2.2//NONSGML v1.0//EN
CALSCALE:GREGORIAN
METHOD:PUBLISH
X-WR-CALNAME:Ginninderry Community Switch
X-ORIGINAL-URL:https://communityswitch.com.au
X-WR-CALDESC:Events for Ginninderry Community Switch
REFRESH-INTERVAL;VALUE=DURATION:PT1H
X-Robots-Tag:noindex
X-PUBLISHED-TTL:PT1H
BEGIN:VTIMEZONE
TZID:Australia/Sydney
BEGIN:STANDARD
TZOFFSETFROM:+1100
TZOFFSETTO:+1000
TZNAME:AEST
DTSTART:20260404T160000
END:STANDARD
BEGIN:DAYLIGHT
TZOFFSETFROM:+1000
TZOFFSETTO:+1100
TZNAME:AEDT
DTSTART:20261003T160000
END:DAYLIGHT
END:VTIMEZONE
BEGIN:VEVENT
DTSTART;TZID=Australia/Sydney:20260502T150000
DTEND;TZID=Australia/Sydney:20260502T210000
DTSTAMP:20260422T065031
CREATED:20260407T072246Z
LAST-MODIFIED:20260407T072303Z
UID:15937-1777734000-1777755600@communityswitch.com.au
SUMMARY:Djilba\, A Moment in Time by Floeur Alder and Virginia Ward
DESCRIPTION:A powerful solo performance born on Menang Noongar Country\, DJILBA: A Moment in Time captures the energy of seasonal change. \nCreated by Floeur Alder and Virginia Ward\, this evocative work weaves dance\, poetry and imagery in celebration of Djilba — the time of renewal and transformation. \nInspired by WA’s Rainbow Coast and guided by Menang Elders\, the performance honours the spirit of Waychinicup\, Many Peaks\, Porongurup and Little Beach. An intimate\, moving experience of place\, culture and season. \n“Playful and meditative\, Floeur Alder’s solo work Djilba: A Moment in Time leaves the viewer immersed in the tranquillity of its bush setting.” — Kim Balfour\, Seesaw Arts Magazine WA \nPresented by Ausdance ACT for Australian Dance Week\, staged with the support of Mirramu Arts Centre\, produced by Kiri Morcombe.
URL:https://communityswitch.com.au/event/djilba-a-moment-in-time-by-floeur-alder-and-virginia-ward/
ORGANIZER;CN="Ausdance%20ACT":MAILTO:act@ausdance.org.au
END:VEVENT
END:VCALENDAR