BEGIN:VCALENDAR
VERSION:2.0
PRODID:-//Ginninderry Community Switch - ECPv6.1.2.2//NONSGML v1.0//EN
CALSCALE:GREGORIAN
METHOD:PUBLISH
X-WR-CALNAME:Ginninderry Community Switch
X-ORIGINAL-URL:https://communityswitch.com.au
X-WR-CALDESC:Events for Ginninderry Community Switch
REFRESH-INTERVAL;VALUE=DURATION:PT1H
X-Robots-Tag:noindex
X-PUBLISHED-TTL:PT1H
BEGIN:VTIMEZONE
TZID:Australia/Sydney
BEGIN:STANDARD
TZOFFSETFROM:+1100
TZOFFSETTO:+1000
TZNAME:AEST
DTSTART:20260404T160000
END:STANDARD
BEGIN:DAYLIGHT
TZOFFSETFROM:+1000
TZOFFSETTO:+1100
TZNAME:AEDT
DTSTART:20261003T160000
END:DAYLIGHT
END:VTIMEZONE
BEGIN:VEVENT
DTSTART;TZID=Australia/Sydney:20260613T100000
DTEND;TZID=Australia/Sydney:20260613T160000
DTSTAMP:20260422T083738
CREATED:20260306T060652Z
LAST-MODIFIED:20260306T060652Z
UID:15549-1781344800-1781366400@communityswitch.com.au
SUMMARY:Digital Photography Fundamentals – One Day Workshop
DESCRIPTION:In this hands-on workshop\, you will gain a practical understanding of your camera’s functions – aperture\, shutter speed and ISO – together with manual focus techniques and the basics of creative composition. You’ll apply these practical techniques and newly established skills over the course of the day and have the opportunity to ask questions and gain feedback\, all under the guidance of experienced photographer and tutor Julian Lumb. \nThis workshop is for absolute beginners with a digital single-lens reflex (DSLR) cameras or mirror-less cameras (with interchangeable lens) wishing to gain an understanding of the basic principles of digital photography.
URL:https://communityswitch.com.au/event/digital-photography-fundamentals-one-day-workshop-3/
LOCATION:Griffith\, Manuka Circle\, 30\, Griffith\, ACT\, 2603
CATEGORIES:Things to do
ORGANIZER;CN="photo%20access":MAILTO:maddie@photoaccess.org.au
END:VEVENT
END:VCALENDAR