BEGIN:VCALENDAR
VERSION:2.0
PRODID:-//Ginninderry Community Switch - ECPv6.1.2.2//NONSGML v1.0//EN
CALSCALE:GREGORIAN
METHOD:PUBLISH
X-WR-CALNAME:Ginninderry Community Switch
X-ORIGINAL-URL:https://communityswitch.com.au
X-WR-CALDESC:Events for Ginninderry Community Switch
REFRESH-INTERVAL;VALUE=DURATION:PT1H
X-Robots-Tag:noindex
X-PUBLISHED-TTL:PT1H
BEGIN:VTIMEZONE
TZID:Australia/Sydney
BEGIN:STANDARD
TZOFFSETFROM:+1100
TZOFFSETTO:+1000
TZNAME:AEST
DTSTART:20260404T160000
END:STANDARD
BEGIN:DAYLIGHT
TZOFFSETFROM:+1000
TZOFFSETTO:+1100
TZNAME:AEDT
DTSTART:20261003T160000
END:DAYLIGHT
END:VTIMEZONE
BEGIN:VEVENT
DTSTART;TZID=Australia/Sydney:20260613T140000
DTEND;TZID=Australia/Sydney:20260613T160000
DTSTAMP:20260422T083919
CREATED:20260224T224328Z
LAST-MODIFIED:20260224T224328Z
UID:15329-1781359200-1781366400@communityswitch.com.au
SUMMARY:Dainere's Rainbow Book Character High Tea
DESCRIPTION:Join us for the Dainere’s Rainbow Book Character High Tea\, a truly enchanting afternoon of refined magic\, storybook wonder\, and whimsical delight. Savour exquisite treats\, laughter\, and boundless imagination\, all while raising vital funds for children bravely battling brain cancer.
URL:https://communityswitch.com.au/event/daineres-rainbow-book-character-high-tea/
LOCATION:Parkes\, Queen Victoria Terrace\, Parkes\, ACT\, 2600
CATEGORIES:Family friendly events
ORGANIZER;CN="Yvonne%20and%20Stephen%20Anthoney%20%28Dainere%27s%20Rainbow%29":MAILTO:daineresrainbow@gmail.com
END:VEVENT
END:VCALENDAR