BEGIN:VCALENDAR
VERSION:2.0
PRODID:-//Ginninderry Community Switch - ECPv6.1.2.2//NONSGML v1.0//EN
CALSCALE:GREGORIAN
METHOD:PUBLISH
X-WR-CALNAME:Ginninderry Community Switch
X-ORIGINAL-URL:https://communityswitch.com.au
X-WR-CALDESC:Events for Ginninderry Community Switch
REFRESH-INTERVAL;VALUE=DURATION:PT1H
X-Robots-Tag:noindex
X-PUBLISHED-TTL:PT1H
BEGIN:VTIMEZONE
TZID:Australia/Sydney
BEGIN:STANDARD
TZOFFSETFROM:+1100
TZOFFSETTO:+1000
TZNAME:AEST
DTSTART:20260404T160000
END:STANDARD
BEGIN:DAYLIGHT
TZOFFSETFROM:+1000
TZOFFSETTO:+1100
TZNAME:AEDT
DTSTART:20261003T160000
END:DAYLIGHT
END:VTIMEZONE
BEGIN:VEVENT
DTSTART;TZID=Australia/Sydney:20260502T100000
DTEND;TZID=Australia/Sydney:20260502T120000
DTSTAMP:20260422T064329
CREATED:20260409T023019Z
LAST-MODIFIED:20260409T023019Z
UID:15970-1777716000-1777723200@communityswitch.com.au
SUMMARY:Croquet Come and Try session
DESCRIPTION:Belconnen Croquet Club invite you to come and try gold croquet. wear flat shoes\, bring a hat and be prepared to learn new skills and have some fun.\nAll welcome
URL:https://communityswitch.com.au/event/croquet-come-and-try-session/
LOCATION:Aranda\, Bindubi Street\, Aranda\, ACT\, 2614
CATEGORIES:Things to do
ORGANIZER;CN="Mary%20Bonney":MAILTO:bonneytm@netspeed.com.au
END:VEVENT
END:VCALENDAR