BEGIN:VCALENDAR
VERSION:2.0
PRODID:-//Ginninderry Community Switch - ECPv6.1.2.2//NONSGML v1.0//EN
CALSCALE:GREGORIAN
METHOD:PUBLISH
X-WR-CALNAME:Ginninderry Community Switch
X-ORIGINAL-URL:https://communityswitch.com.au
X-WR-CALDESC:Events for Ginninderry Community Switch
REFRESH-INTERVAL;VALUE=DURATION:PT1H
X-Robots-Tag:noindex
X-PUBLISHED-TTL:PT1H
BEGIN:VTIMEZONE
TZID:Australia/Sydney
BEGIN:STANDARD
TZOFFSETFROM:+1100
TZOFFSETTO:+1000
TZNAME:AEST
DTSTART:20260404T160000
END:STANDARD
BEGIN:DAYLIGHT
TZOFFSETFROM:+1000
TZOFFSETTO:+1100
TZNAME:AEDT
DTSTART:20261003T160000
END:DAYLIGHT
END:VTIMEZONE
BEGIN:VEVENT
DTSTART;TZID=Australia/Sydney:20260419T093000
DTEND;TZID=Australia/Sydney:20260419T140000
DTSTAMP:20260420T135748
CREATED:20260415T044906Z
LAST-MODIFIED:20260415T044906Z
UID:16050-1776591000-1776607200@communityswitch.com.au
SUMMARY:Cool Country Cat Club Kitten and Cat Show
DESCRIPTION:Join us for a fantastic day of feline fun! at the Weston Creek Community Hub\, Hilder St Weston. Come and see a wonderful variety of beautiful cats and kittens\, including pedigreed favourites and lovable companions. Watch judging throughout the day and learn more about different breeds and what makes them so special.
URL:https://communityswitch.com.au/event/cool-country-cat-club-kitten-and-cat-show-2/
LOCATION:Unnamed Venue\, ACT\, 2611
CATEGORIES:Family friendly events
ORGANIZER;CN="Jenny%20Weekes":MAILTO:secretary@catsnsw.com.au
END:VEVENT
END:VCALENDAR