BEGIN:VCALENDAR
VERSION:2.0
PRODID:-//Ginninderry Community Switch - ECPv6.1.2.2//NONSGML v1.0//EN
CALSCALE:GREGORIAN
METHOD:PUBLISH
X-WR-CALNAME:Ginninderry Community Switch
X-ORIGINAL-URL:https://communityswitch.com.au
X-WR-CALDESC:Events for Ginninderry Community Switch
REFRESH-INTERVAL;VALUE=DURATION:PT1H
X-Robots-Tag:noindex
X-PUBLISHED-TTL:PT1H
BEGIN:VTIMEZONE
TZID:Australia/Sydney
BEGIN:STANDARD
TZOFFSETFROM:+1100
TZOFFSETTO:+1000
TZNAME:AEST
DTSTART:20260404T160000
END:STANDARD
BEGIN:DAYLIGHT
TZOFFSETFROM:+1000
TZOFFSETTO:+1100
TZNAME:AEDT
DTSTART:20261003T160000
END:DAYLIGHT
END:VTIMEZONE
BEGIN:VEVENT
DTSTART;TZID=Australia/Sydney:20260524T100000
DTEND;TZID=Australia/Sydney:20260524T130000
DTSTAMP:20260425T040128
CREATED:20260115T232406Z
LAST-MODIFIED:20260115T232406Z
UID:14836-1779616800-1779627600@communityswitch.com.au
SUMMARY:Concept to Publication 2026 Workshop
DESCRIPTION:Concept to Publication is an inspiring\, 7-month program designed to explore experimental publishing and guide you in creating innovative publications like photobooks\, zines\, and other printed works. Perfect for image-makers who want to push the boundaries of traditional storytelling\, this program offers a blend of hands-on experimentation and structured mentorship from an experienced tutor and collaboration with workshop peers.
URL:https://communityswitch.com.au/event/concept-to-publication-2026-workshop/
LOCATION:Griffith\, Manuka Circle\, 30\, Griffith\, ACT\, 2603
CATEGORIES:Things to do
ORGANIZER;CN="photo%20access":MAILTO:maddie@photoaccess.org.au
END:VEVENT
END:VCALENDAR