BEGIN:VCALENDAR
VERSION:2.0
PRODID:-//Ginninderry Community Switch - ECPv6.1.2.2//NONSGML v1.0//EN
CALSCALE:GREGORIAN
METHOD:PUBLISH
X-WR-CALNAME:Ginninderry Community Switch
X-ORIGINAL-URL:https://communityswitch.com.au
X-WR-CALDESC:Events for Ginninderry Community Switch
REFRESH-INTERVAL;VALUE=DURATION:PT1H
X-Robots-Tag:noindex
X-PUBLISHED-TTL:PT1H
BEGIN:VTIMEZONE
TZID:Australia/Sydney
BEGIN:STANDARD
TZOFFSETFROM:+1100
TZOFFSETTO:+1000
TZNAME:AEST
DTSTART:20260404T160000
END:STANDARD
BEGIN:DAYLIGHT
TZOFFSETFROM:+1000
TZOFFSETTO:+1100
TZNAME:AEDT
DTSTART:20261003T160000
END:DAYLIGHT
END:VTIMEZONE
BEGIN:VEVENT
DTSTART;TZID=Australia/Sydney:20260517T080000
DTEND;TZID=Australia/Sydney:20260517T120000
DTSTAMP:20260425T073902
CREATED:20260422T015525Z
LAST-MODIFIED:20260422T015525Z
UID:16180-1779004800-1779019200@communityswitch.com.au
SUMMARY:Canberra Cars N Coffee at Canberra Racecourse
DESCRIPTION:CANBERRA CARS N COFFEE \nMay 17th 2026 \nWe’re back for another Canberra Cars N Coffee at Thoroughbred Park! \nDATE: Sunday May 17th 8am-12pm \nLOCATION: 1 Randwick Rd\, Lyneham ACT \nGates open at 8am and will come to a close at 12pm\nPlease be mindful that the speed limit within the venue is 5km/h \nNO HOONING OR GENERAL STUPID DRIVING. If you plan on doing anything like this\, please do not bother attending. \nOpen to all makes and models of cars and bikes! \nSee you all there!
URL:https://communityswitch.com.au/event/canberra-cars-n-coffee-at-canberra-racecourse-2/
LOCATION:Lyneham\, Randwick Road\, Lyneham\, ACT\, 2602
CATEGORIES:Family friendly events
ORGANIZER;CN="Wombat":MAILTO:1964chevy@hotmail.com.au
END:VEVENT
END:VCALENDAR