BEGIN:VCALENDAR
VERSION:2.0
PRODID:-//Ginninderry Community Switch - ECPv6.1.2.2//NONSGML v1.0//EN
CALSCALE:GREGORIAN
METHOD:PUBLISH
X-WR-CALNAME:Ginninderry Community Switch
X-ORIGINAL-URL:https://communityswitch.com.au
X-WR-CALDESC:Events for Ginninderry Community Switch
REFRESH-INTERVAL;VALUE=DURATION:PT1H
X-Robots-Tag:noindex
X-PUBLISHED-TTL:PT1H
BEGIN:VTIMEZONE
TZID:Australia/Sydney
BEGIN:STANDARD
TZOFFSETFROM:+1100
TZOFFSETTO:+1000
TZNAME:AEST
DTSTART:20260404T160000
END:STANDARD
BEGIN:DAYLIGHT
TZOFFSETFROM:+1000
TZOFFSETTO:+1100
TZNAME:AEDT
DTSTART:20261003T160000
END:DAYLIGHT
END:VTIMEZONE
BEGIN:VEVENT
DTSTART;TZID=Australia/Sydney:20261013T173000
DTEND;TZID=Australia/Sydney:20261013T190000
DTSTAMP:20260422T083901
CREATED:20260102T032306Z
LAST-MODIFIED:20260102T032306Z
UID:14551-1791912600-1791918000@communityswitch.com.au
SUMMARY:Canberra Ainslie Toastmasters - Public Speaking Workshop
DESCRIPTION:Canberra (Ainslie) Toastmasters is conducting a public speaking and presentation skills workshop on aspects of effective communications at Ainslie Football and Social Club\, 52 Wakefield Avenue\, Ainslie from 5:30-7:00pm Tuesday 13 October 2026\, please contact Russell on 0415-261-310 or Canberra Ainslie Toastmasters website for more information.
URL:https://communityswitch.com.au/event/canberra-ainslie-toastmasters-public-speaking-workshop-6/
CATEGORIES:Things to do
ORGANIZER;CN="Russell%20Eade":MAILTO:russell_e00@hotmail.com
END:VEVENT
END:VCALENDAR