BEGIN:VCALENDAR
VERSION:2.0
PRODID:-//Ginninderry Community Switch - ECPv6.1.2.2//NONSGML v1.0//EN
CALSCALE:GREGORIAN
METHOD:PUBLISH
X-WR-CALNAME:Ginninderry Community Switch
X-ORIGINAL-URL:https://communityswitch.com.au
X-WR-CALDESC:Events for Ginninderry Community Switch
REFRESH-INTERVAL;VALUE=DURATION:PT1H
X-Robots-Tag:noindex
X-PUBLISHED-TTL:PT1H
BEGIN:VTIMEZONE
TZID:Australia/Sydney
BEGIN:STANDARD
TZOFFSETFROM:+1100
TZOFFSETTO:+1000
TZNAME:AEST
DTSTART:20260404T160000
END:STANDARD
BEGIN:DAYLIGHT
TZOFFSETFROM:+1000
TZOFFSETTO:+1100
TZNAME:AEDT
DTSTART:20261003T160000
END:DAYLIGHT
END:VTIMEZONE
BEGIN:VEVENT
DTSTART;TZID=Australia/Sydney:20260307T090000
DTEND;TZID=Australia/Sydney:20260308T170000
DTSTAMP:20260421T185930
CREATED:20260130T095532Z
LAST-MODIFIED:20260130T095532Z
UID:14963-1772874000-1772989200@communityswitch.com.au
SUMMARY:Australian Yarn Show
DESCRIPTION:The Australian Yarn Show returns to Hotel Realm\, Canberra\, bringing together yarn lovers\, fibre artists\, designers\, growers\, dyers and small businesses from across Australia for two inspiring days of creativity\, learning and community. \nWhether you’re an experienced maker\, a curious beginner\, or simply love the world of handmade textiles\, the Australian Yarn Show is your gateway to knitting\, crochet\, weaving\, spinning\, embroidery\, wool production and fibre arts in all their forms. \nAcross the weekend\, attendees can enjoy a full Main Stage program featuring talks\, demonstrations\, panel discussions and competitions\, alongside a vibrant market hall showcasing some of Australia’s best yarn producers\, indie dyers\, pattern designers\, tool makers and textile artists. \nThe 2026 Show also features an extensive program of hands-on workshops\, including knitting\, crochet\, Tunisian crochet\, embroidery\, weaving\, spinning and felting sessions\, led by respected Australian educators. Workshop tickets are on sale now! \nSaturday offers a high-energy atmosphere with first access to the market hall\, free knitting and crochet clinics\, competitions and a buzzing program of talks. \nSunday provides a more relaxed and spacious experience\, ideal for leisurely shopping\, deeper conversations with stallholders and skill-building sessions focused on sustainability and fibre knowledge. \nA range of ticket options are available\, including VIP tickets\, two-day and single-day passes\, with concession pricing offered and free entry for children under 16.
URL:https://communityswitch.com.au/event/australian-yarn-show-2/
LOCATION:Barton\, National Circuit\, 18\, Barton\, ACT\, 2600
CATEGORIES:Events
ORGANIZER;CN="Capital%20Strategic%20Solutions%20Pty%20Ltd":MAILTO:info@yarnshow.com.au
END:VEVENT
END:VCALENDAR