BEGIN:VCALENDAR
VERSION:2.0
PRODID:-//Ginninderry Community Switch - ECPv6.1.2.2//NONSGML v1.0//EN
CALSCALE:GREGORIAN
METHOD:PUBLISH
X-WR-CALNAME:Ginninderry Community Switch
X-ORIGINAL-URL:https://communityswitch.com.au
X-WR-CALDESC:Events for Ginninderry Community Switch
REFRESH-INTERVAL;VALUE=DURATION:PT1H
X-Robots-Tag:noindex
X-PUBLISHED-TTL:PT1H
BEGIN:VTIMEZONE
TZID:Australia/Sydney
BEGIN:STANDARD
TZOFFSETFROM:+1100
TZOFFSETTO:+1000
TZNAME:AEST
DTSTART:20260404T160000
END:STANDARD
BEGIN:DAYLIGHT
TZOFFSETFROM:+1000
TZOFFSETTO:+1100
TZNAME:AEDT
DTSTART:20261003T160000
END:DAYLIGHT
END:VTIMEZONE
BEGIN:VEVENT
DTSTART;TZID=Australia/Sydney:20260423T183000
DTEND;TZID=Australia/Sydney:20260423T203000
DTSTAMP:20260420T031920
CREATED:20260415T044913Z
LAST-MODIFIED:20260415T044913Z
UID:16051-1776969000-1776976200@communityswitch.com.au
SUMMARY:ACT Rescue and Foster (ARF) Volunteers Information Night
DESCRIPTION:Be the reason a dog gets a second chance! Come along to find out how you can help ARF to help more dogs in the Canberra region
URL:https://communityswitch.com.au/event/act-rescue-and-foster-arf-volunteers-information-night/
LOCATION:Dickson\, Badham Street\, Dickson\, ACT\, 2602
CATEGORIES:Events
ORGANIZER;CN="Dallas%20Burkevics":MAILTO:president@fosterdogs.org
END:VEVENT
END:VCALENDAR